Workbook

Sheet 入力例
B2: 男子第76回・女子第41回 奈良県高等学校駅伝競走大会 参加申込書 入力フォーム（例）
B4: 記入日 | C4: 45931 | E4: ←半角数字(月/日)の5文字で入力（※11月5日の場合→11/05） | P4: 滋賀 | Q4: 25 | R4: 良
B5: 府県名 | C5: 奈良 | D5: =VLOOKUP(C5,P4:Q9,2) -> 29 | P5: 京都 | Q5: 26 | R5: 不良
B6: 学校名（正式名） | C6: 奈良県立大和広陵高等学校 | E6: ←正式名称を入力（例：奈良県立〇〇高等学校） | P6: 大阪 | Q6: 27
B7: 学校名（略称名） | C7: 大和広陵 | D7: =IF(C7="","",VLOOKUP(C7,所属一覧!H2:J50,3,FALSE)) -> 30 | E7: ←リストから選択(「高」は省略） | P7: 兵庫 | Q7: 28
B8: 学校名（略称のフリガナ） | C8: =IF(C7="","",VLOOKUP(C7,所属一覧!H2:I50,2,FALSE)) -> ﾔﾏﾄｺｳﾘｮｳ | E8: ←自動入力 | P8: 奈良 | Q8: 29
B9: 学校 郵便番号 | C9: 635-0802 | E9: ←半角数字(7桁)で入力（ハイフン必要） | P9: 和歌山 | Q9: 30
B10: 学校 所在地 | C10: 奈良県北葛城郡広陵町的場401 | E10: ←正確に入力 | P10: 1 | Q10: 001
B11: 学校 電話番号 | C11: 0745-57-0300 | E11: ←半角数字と"-"で入力 | P11: 2 | Q11: 002
B12: 学校 FAX番号 | C12: 0745-56-4460 | E12: ←半角数字と"-"で入力 | P12: 3 | Q12: 003
B13: 校長名 | C13: 広陵 太郎 | E13: ←姓と名の間は全角スペースで空ける(外字は使用しない) | P13: 4 | Q13: 004
B14: 監督名 | C14: 廣瀬野 一朗 | E14: ←姓と名の間は全角スペースで空ける(外字は使用しない) | P14: 5 | Q14: 005
B15: 監督の携帯電話番号 | C15: 000-0000-0000 | E15: ←半角数字と"-"で入力(内容等の問い合わせ時使用、携帯電話番号でお願いします。) | P15: 6 | Q15: 006
B16: 府県予選会順位 | D16: =VLOOKUP(C16,P10:Q18,2) -> #N/A | E16: ←リストから選択(半角数字) | P16: 7 | Q16: 007
P17: 9 | Q17: 009
P18: 10 | Q18: 010
A19: 番号 | B19: 男子 選手氏名(全角) | C19: ﾌﾘｶﾞﾅ(半角ｶﾅ) | E19: 学年 | F19: 区間 | H19: 健康状態 | I19: 主将 | J19: 外国人 留学生 | K19: 混成 チーム
G20: 記録(半角4桁)
A21: 01 | B21: 宇陀 一郎 | C21: ｳﾀﾞ ｲﾁﾛｳ | E21: 1 | F21: 1 | H21: 良 | I21: ○ | L21: 選手氏名 | M21: ←姓と名の間は全角スペース、外字は使用しない
A22: 02 | B22: 法隆寺 二郎 | C22: ﾎｳﾘｭｳｼﾞ ｼﾞﾛｳ | E22: 2 | F22: 2 | H22: 良 | L22: ﾌﾘｶﾞﾅ | M22: ←半角カナで入力、姓と名の間は半角スペース
A23: 03 | B23: 三笠 三郎 | C23: ﾐｶｻ ｻﾌﾞﾛｳ | E23: 3 | F23: 3 | H23: 良 | L23: 健康状態 | M23: ←リストから選択（※不良の場合、出場不可）
A24: 04 | B24: 万葉 太郎 | C24: ﾏﾝﾖｳ ﾀﾛｳ | E24: 1 | F24: 4 | H24: 良 | L24: 主将 | M24: ←主将（もしくは代表選手）に○印、リストから選択
A25: 05 | B25: 吉野 次郎 | C25: ﾖｼﾉ ｼﾞﾛｳ | E25: 2 | F25: 5 | H25: 良 | L25: 外国人留学生 | M25: ←該当選手に○印、リストから選択（参加申込は２名以内、出場は１区を除く、１区間１名）
A26: 06 | B26: 大仏 一 | C26: ﾀﾞｲﾌﾞﾂ ﾊｼﾞﾒ | E26: 3 | F26: 6 | H26: 良
A27: 07 | B27: シカ ディーア | C27: ｼｶ ﾃﾞｨｰｱ | E27: 1 | F27: 7 | H27: 良 | J27: ○
A28: 08 | B28: 柿 一朗 | C28: ｶｷ ｲﾁﾛｳ | E28: 2 | F28: 補欠1 | H28: 良 | L28: ※入力上のお願い：「外字は使用しないでください」
A29: 09 | B29: 飛鳥 二朗 | C29: ｱｽｶ ｼﾞﾛｳ | E29: 3 | F29: 補欠2 | H29: 良 | L29: 外字を使用されますと、事務局のコンピュータで処理できなくなりますので、使わないようにお願いします。
A30: 10 | B30: 三輪 三朗 | C30: ﾐﾜ ｻﾌﾞﾛｳ | E30: 1 | F30: 補欠3 | H30: 良 | L30: （併せて、プログラムや結果一覧も入力いただいたデータで処理させていただきますことを御理解ください。）
A31: 番号 | B31: 女子 選手氏名(全角) | C31: ﾌﾘｶﾞﾅ(半角ｶﾅ) | E31: 学年 | F31: 区間 | H31: 健康状態 | I31: 主将 | J31: 外国人 留学生 | K31: 混成 チーム
G32: 記録(半角4桁) | L32: ※注意事項
A33: 01 | B33: 宇陀 花子 | C33: ｳﾀﾞ ﾊﾅｺ | E33: 1 | F33: 1 | H33: 良 | K33: 宇陀 | L33: ① | M33: 合同チームで出場の際は各校毎に校長印を押印
A34: 02 | B34: 法隆寺 華子 | C34: ﾎｳﾘｭｳｼﾞ ﾊﾅｺ | E34: 2 | F34: 2 | H34: 良 | K34: 法隆寺国際 | L34: ② | M34: 合同チームは個人の所属がわかるように「混成チーム」欄で所属校を選択
A35: 03 | B35: 三笠 良子 | C35: ﾐｶｻ ﾘｮｳｺ | E35: 3 | F35: 3 | H35: 良 | K35: 奈良 | L35: ③ | M35: 申込用紙は監督会議時に持参
A36: 04 | B36: 万葉 好子 | C36: ﾏﾝﾖｳ ﾖｼｺ | E36: 1 | F36: 4 | H36: 良 | K36: 橿原
A37: 05 | B37: 吉野 桜 | C37: ﾖｼﾉ ｻｸﾗ | E37: 2 | F37: 5 | H37: 良 | I37: ○ | K37: 奈良南
A38: 06 | B38: イカルガ シーカ | C38: ｲｶﾙｶﾞ ｼｰｶ | E38: 3 | F38: 補欠1 | H38: 良 | J38: ○ | K38: 法隆寺国際
A39: 07 | B39: 柿 未来 | C39: ｶｷ ﾐｷ | E39: 1 | F39: 補欠2 | H39: 良 | K39: 奈良南
A40: 08 | B40: 三輪 飛鳥 | C40: ﾐﾜ ｱｽｶ | E40: 2 | F40: 補欠3 | H40: 良 | K40: 桜井

Sheet 入力シート
B2: 男子第76回・女子第41回 奈良県高等学校駅伝競走大会 参加申込書 入力フォーム
B4: 記入日 | E4: ←半角数字(月/日)の5文字で入力（※11月5日の場合→11/05） | M4: 1 | P4: 滋賀 | Q4: 25 | R4: 良
B5: 府県名 | C5: 奈良 | D5: =VLOOKUP(C5,P4:Q9,2) -> 29 | E5: ←リストから選択 | P5: 京都 | Q5: 26 | R5: 不良
B6: 学校名（正式名） | E6: ←正式名称を入力（例：奈良県立〇〇高等学校） | P6: 大阪 | Q6: 27
B7: 学校名（略称名） | D7: =IF(C7="","",VLOOKUP(C7,所属一覧!H2:J50,3,FALSE)) | E7: ←リストから選択(「高」は省略） | P7: 兵庫 | Q7: 28
B8: 学校名（略称のフリガナ） | C8: =IF(C7="","",VLOOKUP(C7,所属一覧!H2:I50,2,FALSE)) | E8: ←自動入力 | P8: 奈良 | Q8: 29
B9: 学校 郵便番号 | E9: ←半角数字(7桁)で入力（ハイフン必要） | P9: 和歌山 | Q9: 30
B10: 学校 所在地 | E10: ←正確に入力 | P10: 1 | Q10: 001
B11: 学校 電話番号 | E11: ←半角数字と"-"で入力 | P11: 2 | Q11: 002
B12: 学校 FAX番号 | E12: ←半角数字と"-"で入力 | P12: 3 | Q12: 003
B13: 校長名 | E13: ←姓と名の間は全角スペースで空ける(外字は使用しない) | P13: 4 | Q13: 004
B14: 男子監督名 | E14: ←姓と名の間は全角スペースで空ける(外字は使用しない) | P14: 5 | Q14: 005
B15: 男子監督の携帯電話番号 | E15: ←半角数字と"-"で入力(内容等の問い合わせ時使用、携帯電話番号でお願いします。) | P15: 6 | Q15: 006
B16: 女子監督名
B17: 女子監督の携帯電話番号
B18: 府県予選会順位 | D18: =VLOOKUP(C18,P10:Q20,2) -> #N/A | E18: ←リストから選択(半角数字) | P18: 7 | Q18: 007
P19: 9 | Q19: 009
P20: 10 | Q20: 010
A21: 番号 | B21: 男子 選手氏名(全角) | C21: ﾌﾘｶﾞﾅ(半角ｶﾅ) | E21: 学年 | F21: 区間 | H21: 健康状態 | I21: 主将 | J21: 外国人 留学生 | K21: 混成 チーム
G22: 記録(半角4桁)
A23: 01 | F23: 1 | L23: 選手氏名 | M23: ←姓と名の間は全角スペース、外字は使用しない
A24: 02 | F24: 2 | L24: フリガナ | M24: ←半角カナで入力、姓と名の間は半角スペース
A25: 03 | F25: 3 | L25: 健康状態 | M25: ←リストから選択（※不良の場合、出場不可）
A26: 04 | F26: 4 | L26: 主将 | M26: ←主将（もしくは代表選手）に○印、リストから選択
A27: 05 | F27: 5 | L27: 外国人留学生 | M27: ←該当選手に○印、リストから選択（参加申込は２名以内、出場は１区を除く、１区間１名）
A28: 06 | F28: 6
A29: 07 | F29: 7
A30: 08 | F30: 補欠1 | L30: ※入力上のお願い：「外字は使用しないでください」
A31: 09 | F31: 補欠2 | L31: 外字を使用されますと、事務局のコンピュータで処理できなくなりますので、使わないようにお願いします。
A32: 10 | F32: 補欠3 | L32: （併せて、プログラムや結果一覧も入力いただいたデータで処理させていただきますことを御理解ください。）
A33: 番号 | B33: 女子 選手氏名(全角) | C33: ﾌﾘｶﾞﾅ(半角ｶﾅ) | E33: 学年 | F33: 区間 | H33: 健康状態 | I33: 主将 | J33: 外国人 留学生 | K33: 混成 チーム
G34: 記録(半角4桁) | L34: ※注意事項
A35: 01 | F35: 1 | L35: ① | M35: 合同チームで出場の際は各校毎に校長印を押印
A36: 02 | F36: 2 | L36: ② | M36: 合同チームは個人の所属がわかるように「混成チーム」欄で所属校を選択
A37: 03 | F37: 3 | L37: ③ | M37: 申込用紙は監督会議時に持参
A38: 04 | F38: 4
A39: 05 | F39: 5
A40: 06 | F40: 補欠1
A41: 07 | F41: 補欠2
A42: 08 | F42: 補欠3

Sheet 男子参加申込用紙
B1: 第76回 奈良県高等学校駅伝競走大会 兼 全国・近畿高校駅伝競走大会 県予選会 申込用紙
I2: (様式１）
B3: 学校名（略称） | D3: =IF(入力シート!C7="","",入力シート!C7) | H3: 府県名 | I3: =IF(入力シート!C5="","",入力シート!C5) -> 奈良
B5: 郵便番号 | C5: =IF(入力シート!C9="","",入力シート!C9)
B6: 所 在 地 | C6: =IF(入力シート!C10="","",入力シート!C10)
B8: 電話番号 | C8: =IF(入力シート!C11="","",入力シート!C11)
B9: FAX 番号 | C9: =IF(入力シート!C12="","",入力シート!C12)
B11: 男子 参加選手一覧
B13: 番号 | C13: 主将 | D13: 外国人 留学生 | E13: ﾌﾘｶﾞﾅ | F13: 学年 | G13: 区間 | H13: 健康状態
E14: 選手氏名
B15: 1 | C15: =IF(入力シート!I23="","",入力シート!I23) | D15: =IF(入力シート!J23="","",入力シート!J23) | E15: =IF(入力シート!C23="","",入力シート!C23) | F15: =IF(入力シート!E23="","",入力シート!E23) | G15: =IF(入力シート!F23="","",入力シート!F23) -> 1 | H15: =IF(入力シート!H23="","",入力シート!H23)
B16: ① | E16: =IF(入力シート!B23="","",入力シート!B23)
B17: 2 | C17: =IF(入力シート!I24="","",入力シート!I24) | D17: =IF(入力シート!J24="","",入力シート!J24) | E17: =IF(入力シート!C24="","",入力シート!C24) | F17: =IF(入力シート!E24="","",入力シート!E24) | G17: =IF(入力シート!F24="","",入力シート!F24) -> 2 | H17: =IF(入力シート!H24="","",入力シート!H24)
B18: 2 | E18: =IF(入力シート!B24="","",入力シート!B24)
B19: 3 | C19: =IF(入力シート!I25="","",入力シート!I25) | D19: =IF(入力シート!J25="","",入力シート!J25) | E19: =IF(入力シート!C25="","",入力シート!C25) | F19: =IF(入力シート!E25="","",入力シート!E25) | G19: =IF(入力シート!F25="","",入力シート!F25) -> 3 | H19: =IF(入力シート!H25="","",入力シート!H25)
B20: 3 | E20: =IF(入力シート!B25="","",入力シート!B25)
B21: 4 | C21: =IF(入力シート!I26="","",入力シート!I26) | D21: =IF(入力シート!J26="","",入力シート!J26) | E21: =IF(入力シート!C26="","",入力シート!C26) | F21: =IF(入力シート!E26="","",入力シート!E26) | G21: =IF(入力シート!F26="","",入力シート!F26) -> 4 | H21: =IF(入力シート!H26="","",入力シート!H26)
B22: 4 | E22: =IF(入力シート!B26="","",入力シート!B26)
B23: 5 | C23: =IF(入力シート!I27="","",入力シート!I27) | D23: =IF(入力シート!J27="","",入力シート!J27) | E23: =IF(入力シート!C27="","",入力シート!C27) | F23: =IF(入力シート!E27="","",入力シート!E27) | G23: =IF(入力シート!F27="","",入力シート!F27) -> 5 | H23: =IF(入力シート!H27="","",入力シート!H27)
B24: 5 | E24: =IF(入力シート!B27="","",入力シート!B27)
B25: 6 | C25: =IF(入力シート!I28="","",入力シート!I28) | D25: =IF(入力シート!J28="","",入力シート!J28) | E25: =IF(入力シート!C28="","",入力シート!C28) | F25: =IF(入力シート!E28="","",入力シート!E28) | G25: =IF(入力シート!F28="","",入力シート!F28) -> 6 | H25: =IF(入力シート!H28="","",入力シート!H28)
B26: 6 | E26: =IF(入力シート!B28="","",入力シート!B28)
B27: 7 | C27: =IF(入力シート!I29="","",入力シート!I29) | D27: =IF(入力シート!J29="","",入力シート!J29) | E27: =IF(入力シート!C29="","",入力シート!C29) | F27: =IF(入力シート!E29="","",入力シート!E29) | G27: =IF(入力シート!F29="","",入力シート!F29) -> 7 | H27: =IF(入力シート!H29="","",入力シート!H29)
B28: 7 | E28: =IF(入力シート!B29="","",入力シート!B29)
B29: 8 | C29: =IF(入力シート!I30="","",入力シート!I30) | D29: =IF(入力シート!J30="","",入力シート!J30) | E29: =IF(入力シート!C30="","",入力シート!C30) | F29: =IF(入力シート!E30="","",入力シート!E30) | G29: =IF(入力シート!F30="","",入力シート!F30) -> 補欠1 | H29: =IF(入力シート!H30="","",入力シート!H30)
B30: 8 | E30: =IF(入力シート!B30="","",入力シート!B30)
B31: 9 | C31: =IF(入力シート!I31="","",入力シート!I31) | D31: =IF(入力シート!J31="","",入力シート!J31) | E31: =IF(入力シート!C31="","",入力シート!C31) | F31: =IF(入力シート!E31="","",入力シート!E31) | G31: =IF(入力シート!F31="","",入力シート!F31) -> 補欠2 | H31: =IF(入力シート!H31="","",入力シート!H31)
B32: 9 | E32: =IF(入力シート!B31="","",入力シート!B31)
B33: 10 | C33: =IF(入力シート!I32="","",入力シート!I32) | D33: =IF(入力シート!J32="","",入力シート!J32) | E33: =IF(入力シート!C32="","",入力シート!C32) | F33: =IF(入力シート!E32="","",入力シート!E32) | G33: =IF(入力シート!F32="","",入力シート!F32) -> 補欠3 | H33: =IF(入力シート!H32="","",入力シート!H32)
B34: 10 | E34: =IF(入力シート!B32="","",入力シート!B32)
B36: ※主将に○印
B37: ※外国人留学生に○印
B40: 学校名（正式） | D40: =IF(入力シート!C6="","",入力シート!C6) | G40: 校長名 | H40: =IF(入力シート!C13="","",入力シート!C13) | I40: 印
G44: 監督名 | H44: =IF(入力シート!C14="","",入力シート!C14) | I44: 印
G47: （問い合わせ先－監督携帯電話番号）
G48: =IF(入力シート!C15="","",入力シート!C15)

Sheet 女子参加申込用紙
B1: 第41回 奈良県高等学校女子駅伝競走大会 兼 全国・近畿高校駅伝競走大会 県予選会 申込用紙
I2: (様式１）
B3: 学校名（略称） | D3: =IF(入力シート!C7="","",入力シート!C7) | H3: 府県名 | I3: =IF(入力シート!C5="","",入力シート!C5) -> 奈良
B5: 郵便番号 | C5: =IF(入力シート!C9="","",入力シート!C9)
B6: 所 在 地 | C6: =IF(入力シート!C10="","",入力シート!C10)
B8: 電話番号 | C8: =IF(入力シート!C11="","",入力シート!C11)
B9: FAX 番号 | C9: =IF(入力シート!C12="","",入力シート!C12)
B11: 女子 参加選手一覧
B13: 番号 | C13: 主将 | D13: 外国人 留学生 | E13: ﾌﾘｶﾞﾅ | F13: 学年 | G13: 区間 | H13: 健康状態
E14: 選手氏名
B15: 1 | C15: =IF(入力シート!I35="","",入力シート!I35) | D15: =IF(入力シート!J35="","",入力シート!J35) | E15: =IF(入力シート!C35="","",入力シート!C35) | F15: =IF(入力シート!E35="","",入力シート!E35) | G15: =IF(入力シート!F35="","",入力シート!F35) -> 1 | H15: =IF(入力シート!H35="","",入力シート!H35)
B16: ① | E16: =IF(入力シート!B35="","",入力シート!B35)
B17: 2 | C17: =IF(入力シート!I36="","",入力シート!I36) | D17: =IF(入力シート!J36="","",入力シート!J36) | E17: =IF(入力シート!C36="","",入力シート!C36) | F17: =IF(入力シート!E36="","",入力シート!E36) | G17: =IF(入力シート!F36="","",入力シート!F36) -> 2 | H17: =IF(入力シート!H36="","",入力シート!H36)
B18: 2 | E18: =IF(入力シート!B36="","",入力シート!B36)
B19: 3 | C19: =IF(入力シート!I37="","",入力シート!I37) | D19: =IF(入力シート!J37="","",入力シート!J37) | E19: =IF(入力シート!C37="","",入力シート!C37) | F19: =IF(入力シート!E37="","",入力シート!E37) | G19: =IF(入力シート!F37="","",入力シート!F37) -> 3 | H19: =IF(入力シート!H37="","",入力シート!H37)
B20: 3 | E20: =IF(入力シート!B37="","",入力シート!B37)
B21: 4 | C21: =IF(入力シート!I38="","",入力シート!I38) | D21: =IF(入力シート!J38="","",入力シート!J38) | E21: =IF(入力シート!C38="","",入力シート!C38) | F21: =IF(入力シート!E38="","",入力シート!E38) | G21: =IF(入力シート!F38="","",入力シート!F38) -> 4 | H21: =IF(入力シート!H38="","",入力シート!H38)
B22: 4 | E22: =IF(入力シート!B38="","",入力シート!B38)
B23: 5 | C23: =IF(入力シート!I39="","",入力シート!I39) | D23: =IF(入力シート!J39="","",入力シート!J39) | E23: =IF(入力シート!C39="","",入力シート!C39) | F23: =IF(入力シート!E39="","",入力シート!E39) | G23: =IF(入力シート!F39="","",入力シート!F39) -> 5 | H23: =IF(入力シート!H39="","",入力シート!H39)
B24: 5 | E24: =IF(入力シート!B39="","",入力シート!B39)
B25: 6 | C25: =IF(入力シート!I40="","",入力シート!I40) | D25: =IF(入力シート!J40="","",入力シート!J40) | E25: =IF(入力シート!C40="","",入力シート!C40) | F25: =IF(入力シート!E40="","",入力シート!E40) | G25: =IF(入力シート!F40="","",入力シート!F40) -> 補欠1 | H25: =IF(入力シート!H40="","",入力シート!H40)
B26: 6 | E26: =IF(入力シート!B40="","",入力シート!B40)
B27: 7 | C27: =IF(入力シート!I41="","",入力シート!I41) | D27: =IF(入力シート!J41="","",入力シート!J41) | E27: =IF(入力シート!C41="","",入力シート!C41) | F27: =IF(入力シート!E41="","",入力シート!E41) | G27: =IF(入力シート!F41="","",入力シート!F41) -> 補欠2 | H27: =IF(入力シート!H41="","",入力シート!H41)
B28: 7 | E28: =IF(入力シート!B41="","",入力シート!B41)
B29: 8 | C29: =IF(入力シート!I42="","",入力シート!I42) | D29: =IF(入力シート!J42="","",入力シート!J42) | E29: =IF(入力シート!C42="","",入力シート!C42) | F29: =IF(入力シート!E42="","",入力シート!E42) | G29: =IF(入力シート!F42="","",入力シート!F42) -> 補欠3 | H29: =IF(入力シート!H42="","",入力シート!H42)
B30: 8 | E30: =IF(入力シート!B42="","",入力シート!B42)
B32: ※主将に○印
B33: ※外国人留学生に○印
B36: 学校名（正式） | D36: =IF(入力シート!C6="","",入力シート!C6) | G36: 校長名 | H36: =IF(入力シート!C13="","",入力シート!C13) | I36: 印
G40: 監督名 | H40: =IF(入力シート!C16="","",入力シート!C16) | I40: 印
G43: （問い合わせ先－監督携帯電話番号）
G44: =IF(入力シート!C17="","",入力シート!C17)

Sheet syozoku, master
A1: DB | B1: N1 | C1: N2 | D1: N3 | E1: KC
A2: =CONCATENATE("290",入力シート!D7) -> 290 | B2: =入力シート!C8 | C2: =入力シート!C7 -> 0 | D2: =入力シート!C7 -> 0 | E2: =入力シート!D5 -> 29
A5: DB | B5: N1 | C5: N2 | D5: SX | E5: KC | F5: MC | G5: TL | H5: WT | I5: ZK | J5: S1 | K5: S2 | L5: S3 | M5: S4
A6: =CONCATENATE("291",入力シート!$D$7,"0",入力シート!A23) -> 291001 | B6: =入力シート!B23 -> 0 | C6: =入力シート!C23 -> 0 | D6: 1 | E6: =入力シート!$D$5 -> 29 | F6: =$A$2 -> 290 | I6: =CONCATENATE(入力シート!$D$7,入力シート!A23) -> 01
A7: =CONCATENATE("291",入力シート!$D$7,"0",入力シート!A24) -> 291002 | B7: =入力シート!B24 -> 0 | C7: =入力シート!C24 -> 0 | D7: 1 | E7: =入力シート!$D$5 -> 29 | F7: =$A$2 -> 290 | I7: =CONCATENATE(入力シート!$D$7,入力シート!A24) -> 02
A8: =CONCATENATE("291",入力シート!$D$7,"0",入力シート!A25) -> 291003 | B8: =入力シート!B25 -> 0 | C8: =入力シート!C25 -> 0 | D8: 1 | E8: =入力シート!$D$5 -> 29 | F8: =$A$2 -> 290 | I8: =CONCATENATE(入力シート!$D$7,入力シート!A25) -> 03
A9: =CONCATENATE("291",入力シート!$D$7,"0",入力シート!A26) -> 291004 | B9: =入力シート!B26 -> 0 | C9: =入力シート!C26 -> 0 | D9: 1 | E9: =入力シート!$D$5 -> 29 | F9: =$A$2 -> 290 | I9: =CONCATENATE(入力シート!$D$7,入力シート!A26) -> 04
A10: =CONCATENATE("291",入力シート!$D$7,"0",入力シート!A27) -> 291005 | B10: =入力シート!B27 -> 0 | C10: =入力シート!C27 -> 0 | D10: 1 | E10: =入力シート!$D$5 -> 29 | F10: =$A$2 -> 290 | I10: =CONCATENATE(入力シート!$D$7,入力シート!A27) -> 05
A11: =CONCATENATE("291",入力シート!$D$7,"0",入力シート!A28) -> 291006 | B11: =入力シート!B28 -> 0 | C11: =入力シート!C28 -> 0 | D11: 1 | E11: =入力シート!$D$5 -> 29 | F11: =$A$2 -> 290 | I11: =CONCATENATE(入力シート!$D$7,入力シート!A28) -> 06
A12: =CONCATENATE("291",入力シート!$D$7,"0",入力シート!A29) -> 291007 | B12: =入力シート!B29 -> 0 | C12: =入力シート!C29 -> 0 | D12: 1 | E12: =入力シート!$D$5 -> 29 | F12: =$A$2 -> 290 | I12: =CONCATENATE(入力シート!$D$7,入力シート!A29) -> 07
A13: =CONCATENATE("291",入力シート!$D$7,"0",入力シート!A30) -> 291008 | B13: =入力シート!B30 -> 0 | C13: =入力シート!C30 -> 0 | D13: 1 | E13: =入力シート!$D$5 -> 29 | F13: =$A$2 -> 290 | I13: =CONCATENATE(入力シート!$D$7,入力シート!A30) -> 08
A14: =CONCATENATE("291",入力シート!$D$7,"0",入力シート!A31) -> 291009 | B14: =入力シート!B31 -> 0 | C14: =入力シート!C31 -> 0 | D14: 1 | E14: =入力シート!$D$5 -> 29 | F14: =$A$2 -> 290 | I14: =CONCATENATE(入力シート!$D$7,入力シート!A31) -> 09
A15: =CONCATENATE("291",入力シート!$D$7,"0",入力シート!A32) -> 291010 | B15: =入力シート!B32 -> 0 | C15: =入力シート!C32 -> 0 | D15: 1 | E15: =入力シート!$D$5 -> 29 | F15: =$A$2 -> 290 | I15: =CONCATENATE(入力シート!$D$7,入力シート!A32) -> 10
A16: =CONCATENATE("292",入力シート!$D$7,"0",入力シート!A35) -> 292001 | B16: =入力シート!B35 -> 0 | C16: =入力シート!C35 -> 0 | D16: 2 | E16: =入力シート!$D$5 -> 29 | F16: =$A$2 -> 290 | I16: =CONCATENATE(入力シート!$D$7,入力シート!A35) -> 01
A17: =CONCATENATE("292",入力シート!$D$7,"0",入力シート!A36) -> 292002 | B17: =入力シート!B36 -> 0 | C17: =入力シート!C36 -> 0 | D17: 2 | E17: =入力シート!$D$5 -> 29 | F17: =$A$2 -> 290 | I17: =CONCATENATE(入力シート!$D$7,入力シート!A36) -> 02
A18: =CONCATENATE("292",入力シート!$D$7,"0",入力シート!A37) -> 292003 | B18: =入力シート!B37 -> 0 | C18: =入力シート!C37 -> 0 | D18: 2 | E18: =入力シート!$D$5 -> 29 | F18: =$A$2 -> 290 | I18: =CONCATENATE(入力シート!$D$7,入力シート!A37) -> 03
A19: =CONCATENATE("292",入力シート!$D$7,"0",入力シート!A38) -> 292004 | B19: =入力シート!B38 -> 0 | C19: =入力シート!C38 -> 0 | D19: 2 | E19: =入力シート!$D$5 -> 29 | F19: =$A$2 -> 290 | I19: =CONCATENATE(入力シート!$D$7,入力シート!A38) -> 04
A20: =CONCATENATE("292",入力シート!$D$7,"0",入力シート!A39) -> 292005 | B20: =入力シート!B39 -> 0 | C20: =入力シート!C39 -> 0 | D20: 2 | E20: =入力シート!$D$5 -> 29 | F20: =$A$2 -> 290 | I20: =CONCATENATE(入力シート!$D$7,入力シート!A39) -> 05
A21: =CONCATENATE("292",入力シート!$D$7,"0",入力シート!A40) -> 292006 | B21: =入力シート!B40 -> 0 | C21: =入力シート!C40 -> 0 | D21: 2 | E21: =入力シート!$D$5 -> 29 | F21: =$A$2 -> 290 | I21: =CONCATENATE(入力シート!$D$7,入力シート!A40) -> 06
A22: =CONCATENATE("292",入力シート!$D$7,"0",入力シート!A41) -> 292007 | B22: =入力シート!B41 -> 0 | C22: =入力シート!C41 -> 0 | D22: 2 | E22: =入力シート!$D$5 -> 29 | F22: =$A$2 -> 290 | I22: =CONCATENATE(入力シート!$D$7,入力シート!A41) -> 07
A23: =CONCATENATE("292",入力シート!$D$7,"0",入力シート!A42) -> 292008 | B23: =入力シート!B42 -> 0 | C23: =入力シート!C42 -> 0 | D23: 2 | E23: =入力シート!$D$5 -> 29 | F23: =$A$2 -> 290 | I23: =CONCATENATE(入力シート!$D$7,入力シート!A42) -> 08

Sheet ekiden team, member
A1: ZK | B1: N1 | C1: N2 | D1: N3 | E1: OP
A2: =入力シート!$M$4 -> 1 | B2: ='syozoku, master'!C2 -> 0 | C2: ='syozoku, master'!B2 | D2: =入力シート!C5 -> 奈良 | E2: 0
A5: TM | B5: DB | C5: N1 | D5: N2 | E5: KN | F5: MN
A6: =入力シート!$M$4 -> 1 | B6: ='syozoku, master'!A6 -> 291001 | C6: ='syozoku, master'!B6 -> 0 | D6: ='syozoku, master'!C6 -> 0 | E6: =入力シート!$C$5 -> 奈良 | F6: ='syozoku, master'!$C$2 -> 0
A7: =入力シート!$M$4 -> 1 | B7: ='syozoku, master'!A7 -> 291002 | C7: ='syozoku, master'!B7 -> 0 | D7: ='syozoku, master'!C7 -> 0 | E7: =入力シート!$C$5 -> 奈良 | F7: ='syozoku, master'!$C$2 -> 0
A8: =入力シート!$M$4 -> 1 | B8: ='syozoku, master'!A8 -> 291003 | C8: ='syozoku, master'!B8 -> 0 | D8: ='syozoku, master'!C8 -> 0 | E8: =入力シート!$C$5 -> 奈良 | F8: ='syozoku, master'!$C$2 -> 0
A9: =入力シート!$M$4 -> 1 | B9: ='syozoku, master'!A9 -> 291004 | C9: ='syozoku, master'!B9 -> 0 | D9: ='syozoku, master'!C9 -> 0 | E9: =入力シート!$C$5 -> 奈良 | F9: ='syozoku, master'!$C$2 -> 0
A10: =入力シート!$M$4 -> 1 | B10: ='syozoku, master'!A10 -> 291005 | C10: ='syozoku, master'!B10 -> 0 | D10: ='syozoku, master'!C10 -> 0 | E10: =入力シート!$C$5 -> 奈良 | F10: ='syozoku, master'!$C$2 -> 0
A11: =入力シート!$M$4 -> 1 | B11: ='syozoku, master'!A11 -> 291006 | C11: ='syozoku, master'!B11 -> 0 | D11: ='syozoku, master'!C11 -> 0 | E11: =入力シート!$C$5 -> 奈良 | F11: ='syozoku, master'!$C$2 -> 0
A12: =入力シート!$M$4 -> 1 | B12: ='syozoku, master'!A12 -> 291007 | C12: ='syozoku, master'!B12 -> 0 | D12: ='syozoku, master'!C12 -> 0 | E12: =入力シート!$C$5 -> 奈良 | F12: ='syozoku, master'!$C$2 -> 0
A13: =入力シート!$M$4 -> 1 | B13: ='syozoku, master'!A13 -> 291008 | C13: ='syozoku, master'!B13 -> 0 | D13: ='syozoku, master'!C13 -> 0 | E13: =入力シート!$C$5 -> 奈良 | F13: ='syozoku, master'!$C$2 -> 0
A14: =入力シート!$M$4 -> 1 | B14: ='syozoku, master'!A14 -> 291009 | C14: ='syozoku, master'!B14 -> 0 | D14: ='syozoku, master'!C14 -> 0 | E14: =入力シート!$C$5 -> 奈良 | F14: ='syozoku, master'!$C$2 -> 0
A15: =入力シート!$M$4 -> 1 | B15: ='syozoku, master'!A15 -> 291010 | C15: ='syozoku, master'!B15 -> 0 | D15: ='syozoku, master'!C15 -> 0 | E15: =入力シート!$C$5 -> 奈良 | F15: ='syozoku, master'!$C$2 -> 0
A16: =入力シート!$M$4 -> 1 | B16: ='syozoku, master'!A16 -> 292001 | C16: ='syozoku, master'!B16 -> 0 | D16: ='syozoku, master'!C16 -> 0 | E16: =入力シート!$C$5 -> 奈良 | F16: ='syozoku, master'!$C$2 -> 0
A17: =入力シート!$M$4 -> 1 | B17: ='syozoku, master'!A17 -> 292002 | C17: ='syozoku, master'!B17 -> 0 | D17: ='syozoku, master'!C17 -> 0 | E17: =入力シート!$C$5 -> 奈良 | F17: ='syozoku, master'!$C$2 -> 0
... A23: =入力シート!$M$4 -> 1 | B23: ='syozoku, master'!A23 -> 292008 | C23: ='syozoku, master'!B23 -> 0 | D23: ='syozoku, master'!C23 -> 0 | E23: =入力シート!$C$5 -> 奈良 | F23: ='syozoku, master'!$C$2 -> 0

Sheet 所属一覧
B2: 02 | C2: 奈良 | H2: 奈良 | I2: ﾅﾗ | J2: 02
B3: 07 | C3: 山辺 | H3: 山辺 | I3: ﾔﾏﾍﾞ | J3: 07
B4: 08 | C4: 高田 | H4: 高田 | I4: ﾀｶﾀﾞ | J4: 08
H5: 郡山 | I5: ｺｵﾘﾔﾏ | J5: 09
B6: 09 | C6: 郡山 | H6: 大和中央 | I6: ﾔﾏﾄﾁｭｳｵｳ | J6: 10
B7: 10 | C7: 大和中央 | H7: 添上 | I7: ｿｴｶﾐ | J7: 11
B8: 11 | C8: 添上 | H8: 二階堂 | I8: ﾆｶｲﾄﾞｳ | J8: 12
B9: 12 | C9: 二階堂 | H9: 橿原 | I9: ｶｼﾊﾗ | J9: 13
B10: 13 | C10: 橿原 | H10: 畝傍 | I10: ｳﾈﾋﾞ | J10: 14
B11: 14 | C11: 畝傍 | H11: 桜井 | I11: ｻｸﾗｲ | J11: 16
B12: 16 | C12: 桜井 | H12: 五條 | I12: ｺﾞｼﾞｮｳ | J12: 17
B13: 17 | C13: 五條 | H13: 御所実 | I13: ｺﾞｾｼﾞﾂｷﾞｮｳ | J13: 18
B14: 18 | C14: 御所実 | H14: 青翔 | I14: ｾｲｼｮｳ | J14: 19
B15: 19 | C15: 青翔 | H15: 生駒 | I15: ｲｺﾏ | J15: 20
B16: 20 | C16: 生駒 | H16: 奈良北 | I16: ﾅﾗｷﾀ | J16: 21
B17: 21 | C17: 奈良北 | H17: 香芝 | I17: ｶｼﾊﾞ | J17: 22
B18: 24 | C18: 榛生昇陽 | H18: 西和清陵 | I18: ｾｲﾜｾｲﾘｮｳ | J18: 25
B19: 25 | C19: 西和清陵 | H19: 法隆寺国際 | I19: ﾎｳﾘｭｳｼﾞｺｸｻｲ | J19: 26
B20: 26 | C20: 法隆寺国際 | H20: 磯城野 | I20: ｼｷﾉ | J20: 27
B21: 27 | C21: 磯城野 | H21: 高取国際 | I21: ﾀｶﾄﾘｺｸｻｲ | J21: 28
B22: 28 | C22: 高取国際 | H22: 王寺工 | I22: ｵｳｼﾞｺｳｷﾞｮｳ | J22: 29
B23: 29 | C23: 王寺工 | H23: 大和広陵 | I23: ﾔﾏﾄｺｳﾘｮｳ | J23: 30
B24: 30 | C24: 大和広陵 | H24: 十津川 | I24: ﾄﾂｶﾜ | J24: 33
B25: 33 | C25: 十津川 | H25: 奈良ろう | I25: ﾅﾗﾛｳ | J25: 34
B26: 34 | C26: 奈良ろう | H26: 一条 | I26: ｲﾁｼﾞｮｳ | J26: 35
B27: 35 | C27: 一条 | H27: 高田商 | I27: ﾀｶﾀﾞｼｮｳｷﾞｮｳ | J27: 36
B28: 36 | C28: 高田商 | H28: 聖心学園 | I28: ｾｲｼﾝｶﾞｸｴﾝ | J28: 37
B29: 65 | C29: 西吉野農 | H29: 育英西 | I29: ｲｸｴｲﾆｼ | J29: 38
B30: 52 | C30: 国際 | H30: 帝塚山 | I30: ﾃﾂﾞｶﾔﾏ | J30: 39
B31: 54 | C31: 奈良商工 | H31: 東大寺学園 | I31: ﾄｳﾀﾞｲｼﾞｶﾞｸｴﾝ | J31: 40
B32: 56 | C32: 県立商 | H32: 奈良育英 | I32: ﾅﾗｲｸｴｲ | J32: 41
B33: 58 | C33: 奈良南 | H33: 奈良大附属 | I33: ﾅﾗﾀﾞｲﾌｿﾞｸ | J33: 42
B34: 62 | C34: 高円芸術 | H34: 奈良学園 | I34: ﾅﾗｶﾞｸｴﾝ | J34: 43
B35: 66 | C35: 宇陀 | H35: 天理 | I35: ﾃﾝﾘ | J35: 44
B36: 67 | C36: 榛生昇陽・宇陀 | H36: 橿原学院 | I36: ｶｼﾊﾗｶﾞｸｲﾝ | J36: 45
B37: 68 | C37: 県立大付属 | H37: 智辯学園 | I37: ﾁﾍﾞﾝｶﾞｸｴﾝ | J37: 46
B38: 37 | C38: 聖心学園 | H38: 西大和学園 | I38: ﾆｼﾔﾏﾄｶﾞｸｴﾝ | J38: 47
B39: 38 | C39: 育英西 | H39: 奈良学園登美ヶ丘 | I39: ﾅﾗｶﾞｸｴﾝﾄﾐｶﾞｵｶ | J39: 48
B40: 39 | C40: 帝塚山 | H40: 奈良文化 | I40: ﾅﾗﾌﾞﾝｶ | J40: 50
B41: 40 | C41: 東大寺学園 | H41: 智辯カレッジ | I41: ﾁﾍﾞﾝｶﾚｯｼﾞ | J41: 51
B42: 41 | C42: 奈良育英 | H42: 国際 | I42: ｺｸｻｲ | J42: 52
B43: 42 | C43: 奈良大附属 | H43: 奈良商工 | I43: ﾅﾗｼｮｳｺｳ | J43: 54
B44: 43 | C44: 奈良学園 | H44: 県立商 | I44: ｹﾝﾘﾂｼｮｳｷﾞｮｳ | J44: 56
B45: 44 | C45: 天理 | H45: 奈良南 | I45: ﾅﾗﾐﾅﾐ | J45: 58
B46: 45 | C46: 橿原学院 | H46: 高円芸術 | I46: ﾀｶﾏﾄﾞｹﾞｲｼﾞｭﾂ | J46: 62
B47: 46 | C47: 智辯学園 | H47: 奈良商工定 | I47: ﾅﾗｼｮｳｺｳﾃｲｼﾞｾｲ | J47: 64
B48: 47 | C48: 西大和学園 | H48: 西吉野農 | I48: ﾆｼﾖｼﾉﾉｳｷﾞｮｳ | J48: 65
B49: 48 | C49: 奈良学園登美ヶ丘 | H49: 宇陀 | I49: ｳﾀﾞ | J49: 66
B50: 50 | C50: 奈良文化 | H50: 県立大付属 | I50: ｹﾝﾘﾂﾀﾞｲﾌｿﾞｸ | J50: 68
B51: 51 | C51: 智辯カレッジ
B52: 49 | C52: 天理二部
B53: 64 | C53: 奈良商工定
